BEGIN:VCALENDAR
VERSION:2.0
PRODID:-//time.now/holidays//NONSGML v1.0//EN
BEGIN:VEVENT
UID:1c41a6a8-b5d3-4730-82c5-574d057bd83a
DTSTAMP:20260423T030303Z
DTSTART;VALUE=DATE:20261231
SUMMARY:New Year's Eve (Arménie)
END:VEVENT
END:VCALENDAR