BEGIN:VCALENDAR
VERSION:2.0
PRODID:-//time.now/holidays//NONSGML v1.0//EN
BEGIN:VEVENT
UID:14199365-56d8-453e-ba44-6526569c7f2b
DTSTAMP:20260420T094935Z
DTSTART;VALUE=DATE:20260501
SUMMARY:Labor Day (Arménie)
END:VEVENT
END:VCALENDAR