BEGIN:VCALENDAR
VERSION:2.0
PRODID:-//time.now/holidays//NONSGML v1.0//EN
BEGIN:VEVENT
UID:4685778f-7fb6-45bd-9537-2a92e6e31d93
DTSTAMP:20260420T173207Z
DTSTART;VALUE=DATE:20260424
SUMMARY:Genocide Memorial Day (Arménie)
END:VEVENT
END:VCALENDAR