BEGIN:VCALENDAR
VERSION:2.0
PRODID:-//time.now/holidays//NONSGML v1.0//EN
BEGIN:VEVENT
UID:e4af4a35-0399-4665-bd12-62faa26e2222
DTSTAMP:20260422T105119Z
DTSTART;VALUE=DATE:20261103
SUMMARY:Tehuelches and Mapuches declare loyalty to the Argentine flag (Argentine)
END:VEVENT
END:VCALENDAR