BEGIN:VCALENDAR
VERSION:2.0
PRODID:-//time.now/holidays//NONSGML v1.0//EN
BEGIN:VEVENT
UID:c36d1908-3e9d-4e69-adba-a6041544fdeb
DTSTAMP:20260420T203440Z
DTSTART;VALUE=DATE:20261125
SUMMARY:Selk'Nam Genocide Day (Argentine)
END:VEVENT
END:VCALENDAR