BEGIN:VCALENDAR
VERSION:2.0
PRODID:-//time.now/holidays//NONSGML v1.0//EN
BEGIN:VEVENT
UID:70f82074-1df3-4a12-94cc-0ae8f0ec1cff
DTSTAMP:20260421T011316Z
DTSTART;VALUE=DATE:20270816
SUMMARY:Pass to the Immortality of General Don José de San Martín; Saint John Bosco's Day (Argentine)
END:VEVENT
END:VCALENDAR