BEGIN:VCALENDAR
VERSION:2.0
PRODID:-//time.now/holidays//NONSGML v1.0//EN
BEGIN:VEVENT
UID:18530a93-15a2-4c65-8674-8ca1714d19f4
DTSTAMP:20260421T003923Z
DTSTART;VALUE=DATE:20261123
SUMMARY:National Sovereignty Day (Argentine)
END:VEVENT
END:VCALENDAR