BEGIN:VCALENDAR
VERSION:2.0
PRODID:-//time.now/holidays//NONSGML v1.0//EN
BEGIN:VEVENT
UID:32da11bc-46a3-4a0e-9208-842013cbf4f7
DTSTAMP:20260422T105207Z
DTSTART;VALUE=DATE:20260324
SUMMARY:National Day of Remembrance for Truth and Justice (Argentine)
END:VEVENT
END:VCALENDAR