BEGIN:VCALENDAR
VERSION:2.0
PRODID:-//time.now/holidays//NONSGML v1.0//EN
BEGIN:VEVENT
UID:a2e23c3e-2fb5-440a-aaee-de7790fefbd0
DTSTAMP:20260420T162848Z
DTSTART;VALUE=DATE:20220518
SUMMARY:National Census Day 2022 (Argentine)
END:VEVENT
END:VCALENDAR