BEGIN:VCALENDAR
VERSION:2.0
PRODID:-//time.now/holidays//NONSGML v1.0//EN
BEGIN:VEVENT
UID:82df10ef-33c0-46e3-8ecf-5c34ecda470f
DTSTAMP:20260420T152519Z
DTSTART;VALUE=DATE:20270325
SUMMARY:Maundy Thursday (Argentine)
END:VEVENT
END:VCALENDAR