BEGIN:VCALENDAR
VERSION:2.0
PRODID:-//time.now/holidays//NONSGML v1.0//EN
BEGIN:VEVENT
UID:3f245dd7-fd62-494c-a9f1-de8bd539ee07
DTSTAMP:20260422T104040Z
DTSTART;VALUE=DATE:20260503
SUMMARY:Exaltation of the Holy Cross Day (Argentine)
END:VEVENT
END:VCALENDAR