BEGIN:VCALENDAR
VERSION:2.0
PRODID:-//time.now/holidays//NONSGML v1.0//EN
BEGIN:VEVENT
UID:62244978-7be8-46e3-892b-304b2d6acb81
DTSTAMP:20260420T142440Z
DTSTART;VALUE=DATE:20260216
SUMMARY:Carnival Monday (Argentine)
END:VEVENT
END:VCALENDAR