BEGIN:VCALENDAR
VERSION:2.0
PRODID:-//time.now/holidays//NONSGML v1.0//EN
BEGIN:VEVENT
UID:30100089-f86c-4d60-bfef-991a989760eb
DTSTAMP:20260421T011337Z
DTSTART;VALUE=DATE:20270817
SUMMARY:Anniversary of the Death of General José Francisco de San Martín (Argentine)
END:VEVENT
END:VCALENDAR