BEGIN:VCALENDAR
VERSION:2.0
PRODID:-//time.now/holidays//NONSGML v1.0//EN
BEGIN:VEVENT
UID:ca3a4520-3560-41d7-a3fd-1d661c5a4c53
DTSTAMP:20260422T105123Z
DTSTART;VALUE=DATE:20281211
SUMMARY:Sir Vere Cornwall Bird Snr. Day (observed) (Antigua-et-Barbuda)
END:VEVENT
END:VCALENDAR