BEGIN:VCALENDAR
VERSION:2.0
PRODID:-//time.now/holidays//NONSGML v1.0//EN
BEGIN:VEVENT
UID:d7706071-a51a-441c-b894-a655248d9695
DTSTAMP:20260422T090721Z
DTSTART;VALUE=DATE:20340102
SUMMARY:New Year's Day (observed) (Antigua-et-Barbuda)
END:VEVENT
END:VCALENDAR