BEGIN:VCALENDAR
VERSION:2.0
PRODID:-//time.now/holidays//NONSGML v1.0//EN
BEGIN:VEVENT
UID:a9db6a40-89ba-4160-8d8b-23f9c91febf2
DTSTAMP:20260420T194519Z
DTSTART;VALUE=DATE:20260504
SUMMARY:Labour Day (Antigua-et-Barbuda)
END:VEVENT
END:VCALENDAR