BEGIN:VCALENDAR
VERSION:2.0
PRODID:-//time.now/holidays//NONSGML v1.0//EN
BEGIN:VEVENT
UID:ddd46838-1fd1-4623-b149-1a300ed4af5d
DTSTAMP:20260420T212316Z
DTSTART;VALUE=DATE:20260803
SUMMARY:Carnival Monday (Antigua-et-Barbuda)
END:VEVENT
END:VCALENDAR