BEGIN:VCALENDAR
VERSION:2.0
PRODID:-//time.now/holidays//NONSGML v1.0//EN
BEGIN:VEVENT
UID:4b7aedbb-3560-417a-a37b-62afeab77820
DTSTAMP:20260420T214827Z
DTSTART;VALUE=DATE:20261228
SUMMARY:Boxing Day (observed) (Antigua-et-Barbuda)
END:VEVENT
END:VCALENDAR