BEGIN:VCALENDAR
VERSION:2.0
PRODID:-//time.now/holidays//NONSGML v1.0//EN
BEGIN:VEVENT
UID:1f777bb4-6a68-4778-bdfa-6b9f5ab4b4b3
DTSTAMP:20260422T192341Z
DTSTART;VALUE=DATE:20261219
SUMMARY:National Heroes and Heroines Day (Anguilla)
END:VEVENT
END:VCALENDAR