BEGIN:VCALENDAR
VERSION:2.0
PRODID:-//time.now/holidays//NONSGML v1.0//EN
BEGIN:VEVENT
UID:f462cdca-a61c-4d1e-9885-15c991664bb5
DTSTAMP:20260421T005751Z
DTSTART;VALUE=DATE:20261218
SUMMARY:National Heroes and Heroines Day (observed) (Anguilla)
END:VEVENT
END:VCALENDAR