BEGIN:VCALENDAR
VERSION:2.0
PRODID:-//time.now/holidays//NONSGML v1.0//EN
BEGIN:VEVENT
UID:5c69f9e4-7f95-4c87-9a3f-03aa4399d7d2
DTSTAMP:20260420T092011Z
DTSTART;VALUE=DATE:20260501
SUMMARY:Labor Day (Anguilla)
END:VEVENT
END:VCALENDAR