BEGIN:VCALENDAR
VERSION:2.0
PRODID:-//time.now/holidays//NONSGML v1.0//EN
BEGIN:VEVENT
UID:261d1ec3-759d-490f-b4ff-189aaefac31b
DTSTAMP:20260420T140237Z
DTSTART;VALUE=DATE:20270503
SUMMARY:Labor Day (observed) (Anguilla)
END:VEVENT
END:VCALENDAR