BEGIN:VCALENDAR
VERSION:2.0
PRODID:-//time.now/holidays//NONSGML v1.0//EN
BEGIN:VEVENT
UID:1cb7b7cd-fd3d-411a-bfee-623c7eb37626
DTSTAMP:20260420T063152Z
DTSTART;VALUE=DATE:20260403
SUMMARY:Good Friday (Anguilla)
END:VEVENT
END:VCALENDAR