BEGIN:VCALENDAR
VERSION:2.0
PRODID:-//time.now/holidays//NONSGML v1.0//EN
BEGIN:VEVENT
UID:a5ad4a7e-795f-4547-a22f-5454cd1bd823
DTSTAMP:20260420T051628Z
DTSTART;VALUE=DATE:20260405
SUMMARY:Easter Sunday (Anguilla)
END:VEVENT
END:VCALENDAR