BEGIN:VCALENDAR
VERSION:2.0
PRODID:-//time.now/holidays//NONSGML v1.0//EN
BEGIN:VEVENT
UID:85d30526-655a-4892-b700-ca6ee997640e
DTSTAMP:20260420T064605Z
DTSTART;VALUE=DATE:20260403
SUMMARY:Good Friday (Angola)
END:VEVENT
END:VCALENDAR