BEGIN:VCALENDAR
VERSION:2.0
PRODID:-//time.now/holidays//NONSGML v1.0//EN
BEGIN:VEVENT
UID:343640da-dec4-42e9-8186-770629da2edc
DTSTAMP:20260422T102237Z
DTSTART;VALUE=DATE:20260102
SUMMARY:Day off for New Year's Day (Angola)
END:VEVENT
END:VCALENDAR