BEGIN:VCALENDAR
VERSION:2.0
PRODID:-//time.now/holidays//NONSGML v1.0//EN
BEGIN:VEVENT
UID:8d0f0f49-bd15-4253-b1c6-53dbe08ee4ba
DTSTAMP:20260420T215135Z
DTSTART;VALUE=DATE:20290430
SUMMARY:Day off for International Worker's Day (Angola)
END:VEVENT
END:VCALENDAR