BEGIN:VCALENDAR
VERSION:2.0
PRODID:-//time.now/holidays//NONSGML v1.0//EN
BEGIN:VEVENT
UID:b4c071e2-11a7-4ebe-b537-ad5fb7801225
DTSTAMP:20260420T212041Z
DTSTART;VALUE=DATE:20260216
SUMMARY:Day off for Carnival Day (Angola)
END:VEVENT
END:VCALENDAR