BEGIN:VCALENDAR
VERSION:2.0
PRODID:-//time.now/holidays//NONSGML v1.0//EN
BEGIN:VEVENT
UID:1deae457-03c4-4d92-bf30-eab87b9a04b2
DTSTAMP:20260422T103915Z
DTSTART;VALUE=DATE:20260727
SUMMARY:Sant Julià de Lòria Festival (Andorre)
END:VEVENT
END:VCALENDAR