BEGIN:VCALENDAR
VERSION:2.0
PRODID:-//time.now/holidays//NONSGML v1.0//EN
BEGIN:VEVENT
UID:7305d496-60b4-4345-81fe-ceb183359aed
DTSTAMP:20260420T195733Z
DTSTART;VALUE=DATE:20260629
SUMMARY:Saint Peter's Day (Andorre)
END:VEVENT
END:VCALENDAR