BEGIN:VCALENDAR
VERSION:2.0
PRODID:-//time.now/holidays//NONSGML v1.0//EN
BEGIN:VEVENT
UID:68c2d4be-7086-4bf3-8fe8-61575a5736d8
DTSTAMP:20260420T065210Z
DTSTART;VALUE=DATE:20260403
SUMMARY:Good Friday (Andorre)
END:VEVENT
END:VCALENDAR