BEGIN:VCALENDAR
VERSION:2.0
PRODID:-//time.now/holidays//NONSGML v1.0//EN
BEGIN:VEVENT
UID:591ee3f1-aeb1-41ca-b004-cb0ef71dc9c2
DTSTAMP:20260420T031120Z
DTSTART;VALUE=DATE:20260106
SUMMARY:Epiphany (Andorre)
END:VEVENT
END:VCALENDAR