BEGIN:VCALENDAR
VERSION:2.0
PRODID:-//time.now/holidays//NONSGML v1.0//EN
BEGIN:VEVENT
UID:2101bd0c-7018-4dfb-93c8-e5c8d48595b1
DTSTAMP:20260420T033611Z
DTSTART;VALUE=DATE:20260314
SUMMARY:Constitution Day (Andorre)
END:VEVENT
END:VCALENDAR