BEGIN:VCALENDAR
VERSION:2.0
PRODID:-//time.now/holidays//NONSGML v1.0//EN
BEGIN:VEVENT
UID:61330ec4-9b67-4509-b333-d4d1662b1e5d
DTSTAMP:20260420T164133Z
DTSTART;VALUE=DATE:20261225
SUMMARY:Christmas Day (Andorre)
END:VEVENT
END:VCALENDAR