BEGIN:VCALENDAR
VERSION:2.0
PRODID:-//time.now/holidays//NONSGML v1.0//EN
BEGIN:VEVENT
UID:c6ed922e-773d-4e1f-834f-209d3a8200ec
DTSTAMP:20260420T040725Z
DTSTART;VALUE=DATE:20260216
SUMMARY:Carnival (Andorre)
END:VEVENT
END:VCALENDAR