BEGIN:VCALENDAR
VERSION:2.0
PRODID:-//time.now/holidays//NONSGML v1.0//EN
BEGIN:VEVENT
UID:f1d0cbf9-8054-4a6f-b553-a55d28275620
DTSTAMP:20260420T172442Z
DTSTART;VALUE=DATE:20260101
SUMMARY:New Year's Day (Samoa américaine)
END:VEVENT
END:VCALENDAR