BEGIN:VCALENDAR
VERSION:2.0
PRODID:-//time.now/holidays//NONSGML v1.0//EN
BEGIN:VEVENT
UID:91f3c4fd-7a9d-4991-9a2a-e1cb7a4b47ed
DTSTAMP:20260420T200450Z
DTSTART;VALUE=DATE:20271231
SUMMARY:New Year's Day (observed) (Samoa américaine)
END:VEVENT
END:VCALENDAR