BEGIN:VCALENDAR
VERSION:2.0
PRODID:-//time.now/holidays//NONSGML v1.0//EN
BEGIN:VEVENT
UID:ed338d72-2b46-4f93-8bf5-ca32b9b0ca06
DTSTAMP:20260422T090124Z
DTSTART;VALUE=DATE:20260119
SUMMARY:Martin Luther King Jr. Day (Samoa américaine)
END:VEVENT
END:VCALENDAR