BEGIN:VCALENDAR
VERSION:2.0
PRODID:-//time.now/holidays//NONSGML v1.0//EN
BEGIN:VEVENT
UID:c5af3421-974d-466d-bda5-da2b25c37ee2
DTSTAMP:20260420T215048Z
DTSTART;VALUE=DATE:20260716
SUMMARY:Manu'a Islands Cession Day (Samoa américaine)
END:VEVENT
END:VCALENDAR