BEGIN:VCALENDAR
VERSION:2.0
PRODID:-//time.now/holidays//NONSGML v1.0//EN
BEGIN:VEVENT
UID:a101d652-6028-4104-9c26-7b8cce3dafd2
DTSTAMP:20260422T134441Z
DTSTART;VALUE=DATE:20280717
SUMMARY:Manu'a Islands Cession Day (observed) (Samoa américaine)
END:VEVENT
END:VCALENDAR