BEGIN:VCALENDAR
VERSION:2.0
PRODID:-//time.now/holidays//NONSGML v1.0//EN
BEGIN:VEVENT
UID:4d436d61-c9ca-481e-b0f2-7b5b75dfd1b5
DTSTAMP:20260420T095822Z
DTSTART;VALUE=DATE:20260704
SUMMARY:Independence Day (Samoa américaine)
END:VEVENT
END:VCALENDAR