BEGIN:VCALENDAR
VERSION:2.0
PRODID:-//time.now/holidays//NONSGML v1.0//EN
BEGIN:VEVENT
UID:ec346eb6-a618-4d8c-972f-e28ee6fbdf13
DTSTAMP:20260420T162347Z
DTSTART;VALUE=DATE:20261225
SUMMARY:Christmas Day (Samoa américaine)
END:VEVENT
END:VCALENDAR