BEGIN:VCALENDAR
VERSION:2.0
PRODID:-//time.now/holidays//NONSGML v1.0//EN
BEGIN:VEVENT
UID:4f722a14-0664-4970-873e-0f2ad2dd6554
DTSTAMP:20260420T191434Z
DTSTART;VALUE=DATE:20271224
SUMMARY:Christmas Day (observed) (Samoa américaine)
END:VEVENT
END:VCALENDAR