BEGIN:VCALENDAR
VERSION:2.0
PRODID:-//time.now/holidays//NONSGML v1.0//EN
BEGIN:VEVENT
UID:45b1b635-6177-4514-9edd-196b8f562680
DTSTAMP:20260420T081855Z
DTSTART;VALUE=DATE:20261101
SUMMARY:Revolution Day (Algérie)
END:VEVENT
END:VCALENDAR