BEGIN:VCALENDAR
VERSION:2.0
PRODID:-//time.now/holidays//NONSGML v1.0//EN
BEGIN:VEVENT
UID:2f0f9ddf-3cf2-47d7-b832-205027808a97
DTSTAMP:20260420T171429Z
DTSTART;VALUE=DATE:20260101
SUMMARY:New Year's Day (Algérie)
END:VEVENT
END:VCALENDAR