BEGIN:VCALENDAR
VERSION:2.0
PRODID:-//time.now/holidays//NONSGML v1.0//EN
BEGIN:VEVENT
UID:859724f6-d2f7-4903-bf94-796055b5abbe
DTSTAMP:20260420T090614Z
DTSTART;VALUE=DATE:20260705
SUMMARY:Independence Day (Algérie)
END:VEVENT
END:VCALENDAR