BEGIN:VCALENDAR
VERSION:2.0
PRODID:-//time.now/holidays//NONSGML v1.0//EN
BEGIN:VEVENT
UID:b3c50488-b897-4f26-a0eb-257135a50c8a
DTSTAMP:20260420T162137Z
DTSTART;VALUE=DATE:20260413
SUMMARY:Orthodox Easter Sunday (observed) (Albanie)
END:VEVENT
END:VCALENDAR