BEGIN:VCALENDAR
VERSION:2.0
PRODID:-//time.now/holidays//NONSGML v1.0//EN
BEGIN:VEVENT
UID:6f4c8383-5471-426a-8bd6-29fa88b55d6f
DTSTAMP:20260420T215308Z
DTSTART;VALUE=DATE:20270104
SUMMARY:New Year's Day (observed) (Albanie)
END:VEVENT
END:VCALENDAR