BEGIN:VCALENDAR
VERSION:2.0
PRODID:-//time.now/holidays//NONSGML v1.0//EN
BEGIN:VEVENT
UID:f0a2fd02-07c4-48f8-b35d-e767540f5f8e
DTSTAMP:20260420T213617Z
DTSTART;VALUE=DATE:20270503
SUMMARY:International Workers' Day (observed) (Albanie)
END:VEVENT
END:VCALENDAR