BEGIN:VCALENDAR
VERSION:2.0
PRODID:-//time.now/holidays//NONSGML v1.0//EN
BEGIN:VEVENT
UID:8c8342aa-7527-4e0e-bcb9-f7b1c4b0a93c
DTSTAMP:20260420T184612Z
DTSTART;VALUE=DATE:20250606
SUMMARY:Eid al-Adha (Albanie)
END:VEVENT
END:VCALENDAR